BEGIN:VCALENDAR
VERSION:2.0
PRODID:-//wp-events-plugin.com//7.2.3.1//EN
TZID:America/Denver
X-WR-TIMEZONE:America/Denver
BEGIN:VEVENT
UID:82@staythetrail.org
DTSTART;TZID=America/Denver;VALUE=DATE:20210508
DTEND;TZID=America/Denver;VALUE=DATE:20210509
DTSTAMP:20210506T205411Z
URL:https://staythetrail.org/events/yankee-hill-outreach/
SUMMARY:Yankee Hill Outreach
DESCRIPTION:Stay The Trail will be passing out information\, maps and answe
 ring and OHV questions. \nLook for us at the Columbine staging area. \nA
 rea Infomation: https://trails.colorado.gov/places/na~1451023 \n&nbsp\;
CATEGORIES:STT OHV Event,STT Trail Head Event
END:VEVENT
BEGIN:VTIMEZONE
TZID:America/Denver
X-LIC-LOCATION:America/Denver
BEGIN:DAYLIGHT
DTSTART:20210314T030000
TZOFFSETFROM:-0700
TZOFFSETTO:-0600
TZNAME:MDT
END:DAYLIGHT
END:VTIMEZONE
END:VCALENDAR