BEGIN:VCALENDAR
VERSION:2.0
PRODID:-//wp-events-plugin.com//7.2.3.1//EN
TZID:America/Denver
X-WR-TIMEZONE:America/Denver
BEGIN:VEVENT
UID:307@staythetrail.org
DTSTART;TZID=America/Denver;VALUE=DATE:20260509
DTEND;TZID=America/Denver;VALUE=DATE:20260510
DTSTAMP:20260420T143741Z
URL:https://staythetrail.org/events/yankee-hill-club-stewardship-day/
SUMMARY:Yankee Hill Club Stewardship Day
DESCRIPTION:Join the Clear Creek Ranger District\, STT and all the clubs/gr
 oups that have trails adopted in the area. We will have vendor set up in t
 he main Columbine lot and will be splitting into groups to perform trail m
 aintenance. 
CATEGORIES:STT Project
END:VEVENT
BEGIN:VTIMEZONE
TZID:America/Denver
X-LIC-LOCATION:America/Denver
BEGIN:DAYLIGHT
DTSTART:20260308T030000
TZOFFSETFROM:-0700
TZOFFSETTO:-0600
TZNAME:MDT
END:DAYLIGHT
END:VTIMEZONE
END:VCALENDAR