BEGIN:VCALENDAR
VERSION:2.0
PRODID:-//wp-events-plugin.com//7.2.3.1//EN
TZID:America/Denver
X-WR-TIMEZONE:America/Denver
BEGIN:VEVENT
UID:109@staythetrail.org
DTSTART;TZID=America/Denver:20210814T100000
DTEND;TZID=America/Denver:20210814T140000
DTSTAMP:20210819T194642Z
URL:https://staythetrail.org/events/toytec-customer-appreciation-day/
SUMMARY:Toytec Customer Appreciation Day
DESCRIPTION:Join Stay The Trail at Toytec for their annual Customer Appreci
 ation Day. \nEvent information:https://www.facebook.com/ToyTec
CATEGORIES:STT 4x4 Event
END:VEVENT
BEGIN:VTIMEZONE
TZID:America/Denver
X-LIC-LOCATION:America/Denver
BEGIN:DAYLIGHT
DTSTART:20210314T030000
TZOFFSETFROM:-0700
TZOFFSETTO:-0600
TZNAME:MDT
END:DAYLIGHT
END:VTIMEZONE
END:VCALENDAR