BEGIN:VCALENDAR
VERSION:2.0
PRODID:-//wp-events-plugin.com//7.2.3.1//EN
TZID:America/Denver
X-WR-TIMEZONE:America/Denver
BEGIN:VEVENT
UID:86@staythetrail.org
DTSTART;TZID=America/Denver;VALUE=DATE:20210522
DTEND;TZID=America/Denver;VALUE=DATE:20210523
DTSTAMP:20210510T205721Z
URL:https://staythetrail.org/events/toyota-days-event/
SUMMARY:Toyota Days Event
DESCRIPTION:Stay The Trail will be attending Toyota Days in the Buena Vista
  area educating people about responsible 4x4 and OHV use on the public lan
 ds in CO. 
CATEGORIES:STT OHV Event
END:VEVENT
BEGIN:VTIMEZONE
TZID:America/Denver
X-LIC-LOCATION:America/Denver
BEGIN:DAYLIGHT
DTSTART:20210314T030000
TZOFFSETFROM:-0700
TZOFFSETTO:-0600
TZNAME:MDT
END:DAYLIGHT
END:VTIMEZONE
END:VCALENDAR