BEGIN:VCALENDAR
VERSION:2.0
PRODID:-//wp-events-plugin.com//7.2.3.1//EN
TZID:America/Denver
X-WR-TIMEZONE:America/Denver
BEGIN:VEVENT
UID:304@staythetrail.org
DTSTART;TZID=America/Denver:20260424T100000
DTEND;TZID=America/Denver:20260424T130000
DTSTAMP:20260420T142112Z
URL:https://staythetrail.org/events/total-takeover-4-the-edge-automotive/
SUMMARY:Total Takeover 4 - The Edge Automotive
DESCRIPTION:Please join us for our 4th Yukon Total Takeover event! We'll be
  completing a live Re-Gear\, Chef Nick will be onsite preparing an amazing
  lunch for everyone\, beverages\, Stay the Trail and Epic 4x4 Quest will b
 e present and have lots of swag to giveaway! We'll have a LavaBox fired up
  to take that morning chill off! Stoked to see everyone!
CATEGORIES:STT 4x4 Event
END:VEVENT
BEGIN:VTIMEZONE
TZID:America/Denver
X-LIC-LOCATION:America/Denver
BEGIN:DAYLIGHT
DTSTART:20260308T030000
TZOFFSETFROM:-0700
TZOFFSETTO:-0600
TZNAME:MDT
END:DAYLIGHT
END:VTIMEZONE
END:VCALENDAR