BEGIN:VCALENDAR
VERSION:2.0
PRODID:-//wp-events-plugin.com//7.2.3.1//EN
TZID:America/Denver
X-WR-TIMEZONE:America/Denver
BEGIN:VEVENT
UID:102@staythetrail.org
DTSTART;TZID=America/Denver;VALUE=DATE:20210717
DTEND;TZID=America/Denver;VALUE=DATE:20210718
DTSTAMP:20210712T150139Z
URL:https://staythetrail.org/events/tiger-run-trailhead-trail-outreach/
SUMMARY:Tiger Run Trailhead/Trail Outreach
DESCRIPTION:STT will partner with the Dillion Ranger District OHV Crew to p
 rovide OHV education including state and area maps\, safety and law inform
 ation\, and on-trail outreach.  \nArea information: https://trails.colo
 rado.gov/trailheads/horseshoe-gulch-2884
CATEGORIES:STT Trail Head Event
END:VEVENT
BEGIN:VTIMEZONE
TZID:America/Denver
X-LIC-LOCATION:America/Denver
BEGIN:DAYLIGHT
DTSTART:20210314T030000
TZOFFSETFROM:-0700
TZOFFSETTO:-0600
TZNAME:MDT
END:DAYLIGHT
END:VTIMEZONE
END:VCALENDAR