BEGIN:VCALENDAR
VERSION:2.0
PRODID:-//wp-events-plugin.com//7.2.3.1//EN
TZID:America/Denver
X-WR-TIMEZONE:America/Denver
BEGIN:VEVENT
UID:173@staythetrail.org
DTSTART;TZID=America/Denver;VALUE=DATE:20220817
DTEND;TZID=America/Denver;VALUE=DATE:20220822
DTSTAMP:20220815T165048Z
URL:https://staythetrail.org/events/taylor-park-utv-rally-2/
SUMMARY:Taylor Park OHV Outreach
DESCRIPTION:STT will be out with the USFS providing free information such a
 s area and state maps\, responsible riding/driving guidelines and answerin
 g any questions. We will be set-up at the main staging area at the Trading
  Post. \nEvent Info: https://www.facebook.com/groups/taylorparkutvrally/
 announcements
CATEGORIES:STT OHV Event
END:VEVENT
BEGIN:VTIMEZONE
TZID:America/Denver
X-LIC-LOCATION:America/Denver
BEGIN:DAYLIGHT
DTSTART:20220313T030000
TZOFFSETFROM:-0700
TZOFFSETTO:-0600
TZNAME:MDT
END:DAYLIGHT
END:VTIMEZONE
END:VCALENDAR