BEGIN:VCALENDAR
VERSION:2.0
PRODID:-//wp-events-plugin.com//7.2.3.1//EN
TZID:America/Denver
X-WR-TIMEZONE:America/Denver
BEGIN:VEVENT
UID:84@staythetrail.org
DTSTART;TZID=America/Denver;VALUE=DATE:20210529
DTEND;TZID=America/Denver;VALUE=DATE:20210531
DTSTAMP:20210506T210519Z
URL:https://staythetrail.org/events/taylor-park-memorial-day/
SUMMARY:Taylor Park Memorial Day
DESCRIPTION:Stay The Trail will be spending Memorial Day at the popular Tay
 lor Park Trail System. Look for us at the Trading Post\, Tin Cup and on th
 e trail! \nArea Information: https://trails.colorado.gov/places/na~14507
 35
CATEGORIES:STT OHV Event,STT Trail Head Event
END:VEVENT
BEGIN:VTIMEZONE
TZID:America/Denver
X-LIC-LOCATION:America/Denver
BEGIN:DAYLIGHT
DTSTART:20210314T030000
TZOFFSETFROM:-0700
TZOFFSETTO:-0600
TZNAME:MDT
END:DAYLIGHT
END:VTIMEZONE
END:VCALENDAR