BEGIN:VCALENDAR
VERSION:2.0
PRODID:-//wp-events-plugin.com//7.2.3.1//EN
TZID:America/Denver
X-WR-TIMEZONE:America/Denver
BEGIN:VEVENT
UID:114@staythetrail.org
DTSTART;TZID=America/Denver;VALUE=DATE:20210903
DTEND;TZID=America/Denver;VALUE=DATE:20210906
DTSTAMP:20210901T172034Z
URL:https://staythetrail.org/events/taylor-park-labor-day-weekend-outreach
 /
SUMMARY:Taylor Park Labor Day Weekend Outreach
DESCRIPTION:We will be providing area maps\, OHV information and more at Ta
 yor Park. Look for the STT Trailer at the main lot near the Trading Post 
 \n&nbsp\;\nArea Map:https://trails.colorado.gov/places/na~1450735#activity
 =ohv_gt_50 
CATEGORIES:STT Trail Head Event
END:VEVENT
BEGIN:VTIMEZONE
TZID:America/Denver
X-LIC-LOCATION:America/Denver
BEGIN:DAYLIGHT
DTSTART:20210314T030000
TZOFFSETFROM:-0700
TZOFFSETTO:-0600
TZNAME:MDT
END:DAYLIGHT
END:VTIMEZONE
END:VCALENDAR