BEGIN:VCALENDAR
VERSION:2.0
PRODID:-//wp-events-plugin.com//7.2.3.1//EN
TZID:America/Denver
X-WR-TIMEZONE:America/Denver
BEGIN:VEVENT
UID:164@staythetrail.org
DTSTART;TZID=America/Denver;VALUE=DATE:20220702
DTEND;TZID=America/Denver;VALUE=DATE:20220703
DTSTAMP:20220630T194207Z
URL:https://staythetrail.org/events/taylor-park-education-day/
SUMMARY:Taylor Park Education Day
DESCRIPTION:STT will be partnering with the Gunnison USFS OHV Crew providin
 g free area and statewide maps and information along with answering any qu
 estions about the area and OHV recreation in general. Look for the STT tra
 iler at the main staging area near the Trading Post. 
CATEGORIES:STT Trail Head Event
END:VEVENT
BEGIN:VTIMEZONE
TZID:America/Denver
X-LIC-LOCATION:America/Denver
BEGIN:DAYLIGHT
DTSTART:20220313T030000
TZOFFSETFROM:-0700
TZOFFSETTO:-0600
TZNAME:MDT
END:DAYLIGHT
END:VTIMEZONE
END:VCALENDAR