BEGIN:VCALENDAR
VERSION:2.0
PRODID:-//wp-events-plugin.com//7.2.3.1//EN
TZID:America/Denver
X-WR-TIMEZONE:America/Denver
BEGIN:VEVENT
UID:312@staythetrail.org
DTSTART;TZID=America/Denver;VALUE=DATE:20260523
DTEND;TZID=America/Denver;VALUE=DATE:20260524
DTSTAMP:20260420T151519Z
URL:https://staythetrail.org/events/swamp-creek-outreach-day-with-usfs/
SUMMARY:Swamp Creek - Outreach Day with USFS
DESCRIPTION:Canyon Lake Ranger Districts just outside of Fort Collins is fu
 ll of great trails systems. STT is partnering with the USFS Trail Crew to 
 provide OHV/4x4 info\, area maps\, and more. Looks for the tents at the Sw
 amp Creek TH just outside of Redfeather Lakes. 
CATEGORIES:STT Trail Head Event
END:VEVENT
BEGIN:VTIMEZONE
TZID:America/Denver
X-LIC-LOCATION:America/Denver
BEGIN:DAYLIGHT
DTSTART:20260308T030000
TZOFFSETFROM:-0700
TZOFFSETTO:-0600
TZNAME:MDT
END:DAYLIGHT
END:VTIMEZONE
END:VCALENDAR