BEGIN:VCALENDAR
VERSION:2.0
PRODID:-//wp-events-plugin.com//7.2.3.1//EN
TZID:America/Denver
X-WR-TIMEZONE:America/Denver
BEGIN:VEVENT
UID:302@staythetrail.org
DTSTART;TZID=America/Denver:20260419T000000
DTEND;TZID=America/Denver:20260419T000000
DTSTAMP:20260420T140929Z
URL:https://staythetrail.org/events/stt-mhjc-slaugherhouse-gulch-outreach-
 first-run/
SUMMARY:STT/MHJC Slaugherhouse Gulch Outreach/First Run
DESCRIPTION:Stay The Trail and Mile Hi Jeep Club will be out at the main lo
 t with maps\, info and more. MHJC has this system adopted and will be doin
 g a maintenance run along with outreach. 
CATEGORIES:STT 4x4 Event
END:VEVENT
BEGIN:VTIMEZONE
TZID:America/Denver
X-LIC-LOCATION:America/Denver
BEGIN:DAYLIGHT
DTSTART:20260308T030000
TZOFFSETFROM:-0700
TZOFFSETTO:-0600
TZNAME:MDT
END:DAYLIGHT
END:VTIMEZONE
END:VCALENDAR