BEGIN:VCALENDAR
VERSION:2.0
PRODID:-//wp-events-plugin.com//7.2.3.1//EN
TZID:America/Denver
X-WR-TIMEZONE:America/Denver
BEGIN:VEVENT
UID:92@staythetrail.org
DTSTART;TZID=America/Denver:20210604T090000
DTEND;TZID=America/Denver:20210604T120000
DTSTAMP:20210603T150917Z
URL:https://staythetrail.org/events/state-trails-meeting/
SUMMARY:State Trails Meeting
DESCRIPTION:Meeting information and agenda: https://cpw.state.co.us/Docume
 nts/Trails/Committee/2021/3-June/STC-Meeting-Agenda_6-04-21.pdf
CATEGORIES:STT Meetings
END:VEVENT
BEGIN:VTIMEZONE
TZID:America/Denver
X-LIC-LOCATION:America/Denver
BEGIN:DAYLIGHT
DTSTART:20210314T030000
TZOFFSETFROM:-0700
TZOFFSETTO:-0600
TZNAME:MDT
END:DAYLIGHT
END:VTIMEZONE
END:VCALENDAR