BEGIN:VCALENDAR
VERSION:2.0
PRODID:-//wp-events-plugin.com//7.2.3.1//EN
TZID:America/Denver
X-WR-TIMEZONE:America/Denver
BEGIN:VEVENT
UID:88@staythetrail.org
DTSTART;TZID=America/Denver;VALUE=DATE:20210516
DTEND;TZID=America/Denver;VALUE=DATE:20210517
DTSTAMP:20210517T200520Z
URL:https://staythetrail.org/events/st-elmo/
SUMMARY:St Elmo
DESCRIPTION:STT will be in the town of St. Elmo talking to people about cur
 rent trail conditions and responsible early-season driving and riding.  
 \n&nbsp\;\nhttps://trails.colorado.gov/places/na~1938112#activity=ohv_gt_5
 0
CATEGORIES:STT Trail Head Event
END:VEVENT
BEGIN:VTIMEZONE
TZID:America/Denver
X-LIC-LOCATION:America/Denver
BEGIN:DAYLIGHT
DTSTART:20210314T030000
TZOFFSETFROM:-0700
TZOFFSETTO:-0600
TZNAME:MDT
END:DAYLIGHT
END:VTIMEZONE
END:VCALENDAR