BEGIN:VCALENDAR
VERSION:2.0
PRODID:-//wp-events-plugin.com//7.2.3.1//EN
TZID:America/Denver
X-WR-TIMEZONE:America/Denver
BEGIN:VEVENT
UID:110@staythetrail.org
DTSTART;TZID=America/Denver;VALUE=DATE:20210814
DTEND;TZID=America/Denver;VALUE=DATE:20210815
DTSTAMP:20210819T194849Z
URL:https://staythetrail.org/events/st-elmo-trailhead-outreach/
SUMMARY:St Elmo Trailhead Outreach
DESCRIPTION:STT will be providing free area maps\, information and more in 
 the popular townsite of St Elmo and surrounding areas. \n&nbsp\;\nArea ma
 p link: https://trails.colorado.gov/places/na~1938112#activity=ohv_gt_50
CATEGORIES:STT Trail Head Event
END:VEVENT
BEGIN:VTIMEZONE
TZID:America/Denver
X-LIC-LOCATION:America/Denver
BEGIN:DAYLIGHT
DTSTART:20210314T030000
TZOFFSETFROM:-0700
TZOFFSETTO:-0600
TZNAME:MDT
END:DAYLIGHT
END:VTIMEZONE
END:VCALENDAR