BEGIN:VCALENDAR
VERSION:2.0
PRODID:-//wp-events-plugin.com//7.2.3.1//EN
TZID:America/Denver
X-WR-TIMEZONE:America/Denver
BEGIN:VEVENT
UID:91@staythetrail.org
DTSTART;TZID=America/Denver;VALUE=DATE:20210605
DTEND;TZID=America/Denver;VALUE=DATE:20210607
DTSTAMP:20210603T150632Z
URL:https://staythetrail.org/events/st-elmo-ohv-outreach/
SUMMARY:St Elmo OHV Outreach
DESCRIPTION:St. Elmo is a popular small town and a busy area for OHV use. M
 any people stage in town and access the high elevation roads/trails. STT w
 ill be there to educate OHV users on high country conditions\, going throu
 gh snowdrifts NEVER AROUND\, safety and more. \nArea Map: https://stayth
 etrail.org/miners-loop/
CATEGORIES:STT Trail Head Event
END:VEVENT
BEGIN:VTIMEZONE
TZID:America/Denver
X-LIC-LOCATION:America/Denver
BEGIN:DAYLIGHT
DTSTART:20210314T030000
TZOFFSETFROM:-0700
TZOFFSETTO:-0600
TZNAME:MDT
END:DAYLIGHT
END:VTIMEZONE
END:VCALENDAR