BEGIN:VCALENDAR
VERSION:2.0
PRODID:-//wp-events-plugin.com//7.2.3.1//EN
TZID:America/Denver
X-WR-TIMEZONE:America/Denver
BEGIN:VEVENT
UID:115@staythetrail.org
DTSTART;TZID=America/Denver;VALUE=DATE:20210905
DTEND;TZID=America/Denver;VALUE=DATE:20210906
DTSTAMP:20210901T172237Z
URL:https://staythetrail.org/events/st-elmo-labor-day-outreach/
SUMMARY:ST Elmo Labor Day Outreach
DESCRIPTION:STT will be providing OHV maps and education. \nArea Maps: ht
 tps://trails.colorado.gov/places/na~1938112#activity=ohv_gt_50
CATEGORIES:STT Trail Head Event
END:VEVENT
BEGIN:VTIMEZONE
TZID:America/Denver
X-LIC-LOCATION:America/Denver
BEGIN:DAYLIGHT
DTSTART:20210314T030000
TZOFFSETFROM:-0700
TZOFFSETTO:-0600
TZNAME:MDT
END:DAYLIGHT
END:VTIMEZONE
END:VCALENDAR