BEGIN:VCALENDAR
VERSION:2.0
PRODID:-//wp-events-plugin.com//7.2.3.1//EN
TZID:America/Denver
X-WR-TIMEZONE:America/Denver
BEGIN:VEVENT
UID:183@staythetrail.org
DTSTART;TZID=America/Denver;VALUE=DATE:20220917
DTEND;TZID=America/Denver;VALUE=DATE:20220918
DTSTAMP:20220916T173920Z
URL:https://staythetrail.org/events/sheep-mountain-single-track-outreach/
SUMMARY:Sheep Mountain Single Track Outreach
DESCRIPTION:STT will be partnering with the South Park RD to provide OHV ed
 ucation\, maps and more at the new Sheep Mountain Trailhead and single tra
 ck just outside of Fairplay. \nSound Testing: Available 
CATEGORIES:STT Trail Head Event
END:VEVENT
BEGIN:VTIMEZONE
TZID:America/Denver
X-LIC-LOCATION:America/Denver
BEGIN:DAYLIGHT
DTSTART:20220313T030000
TZOFFSETFROM:-0700
TZOFFSETTO:-0600
TZNAME:MDT
END:DAYLIGHT
END:VTIMEZONE
END:VCALENDAR