BEGIN:VCALENDAR
VERSION:2.0
PRODID:-//wp-events-plugin.com//7.2.3.1//EN
TZID:America/Denver
X-WR-TIMEZONE:America/Denver
BEGIN:VEVENT
UID:101@staythetrail.org
DTSTART;TZID=America/Denver;VALUE=DATE:20210711
DTEND;TZID=America/Denver;VALUE=DATE:20210712
DTSTAMP:20210709T134225Z
URL:https://staythetrail.org/events/san-isabel-enduro/
SUMMARY:San Isabel Enduro
DESCRIPTION:Held in the San Isabel National Forest on the San Carlos RD the
  San Isabel Endro is part of the RMEC. STT will be partnering with the loc
 al USFS and CPW to provide education to riders and visitors. \nMore infor
 mation:https://www.racermec.com/
CATEGORIES:STT Trail Head Event
END:VEVENT
BEGIN:VTIMEZONE
TZID:America/Denver
X-LIC-LOCATION:America/Denver
BEGIN:DAYLIGHT
DTSTART:20210314T030000
TZOFFSETFROM:-0700
TZOFFSETTO:-0600
TZNAME:MDT
END:DAYLIGHT
END:VTIMEZONE
END:VCALENDAR