BEGIN:VCALENDAR
VERSION:2.0
PRODID:-//wp-events-plugin.com//7.2.3.1//EN
TZID:America/Denver
X-WR-TIMEZONE:America/Denver
BEGIN:VEVENT
UID:87@staythetrail.org
DTSTART;TZID=America/Denver:20210523T100000
DTEND;TZID=America/Denver:20210523T140000
DTSTAMP:20210511T152045Z
URL:https://staythetrail.org/events/rsg-open-house/
SUMMARY:RSG Open House
DESCRIPTION:We will have and booth set-up at the RSG Open House come out fo
 r free maps\, 4x4/OHV information and take part in the raffle and chat wit
 h like-minded Toyota enthusiasts. \n https://www.facebook.com/rsgoffroad
 \n9680 W Colfax Ave Lakewood\, CO 80215
CATEGORIES:STT OHV Event
END:VEVENT
BEGIN:VTIMEZONE
TZID:America/Denver
X-LIC-LOCATION:America/Denver
BEGIN:DAYLIGHT
DTSTART:20210314T030000
TZOFFSETFROM:-0700
TZOFFSETTO:-0600
TZNAME:MDT
END:DAYLIGHT
END:VTIMEZONE
END:VCALENDAR