BEGIN:VCALENDAR
VERSION:2.0
PRODID:-//wp-events-plugin.com//7.2.3.1//EN
TZID:America/Denver
X-WR-TIMEZONE:America/Denver
BEGIN:VEVENT
UID:85@staythetrail.org
DTSTART;TZID=America/Denver;VALUE=DATE:20210515
DTEND;TZID=America/Denver;VALUE=DATE:20210516
DTSTAMP:20210510T205423Z
URL:https://staythetrail.org/events/rmta-trials-event/
SUMMARY:RMTA Trials Event
DESCRIPTION:Stay The Trail will be attending the RMTA Trials event at Turke
 y Rocks. Free maps and OHV information available 
CATEGORIES:STT OHV Event
END:VEVENT
BEGIN:VTIMEZONE
TZID:America/Denver
X-LIC-LOCATION:America/Denver
BEGIN:DAYLIGHT
DTSTART:20210314T030000
TZOFFSETFROM:-0700
TZOFFSETTO:-0600
TZNAME:MDT
END:DAYLIGHT
END:VTIMEZONE
END:VCALENDAR