BEGIN:VCALENDAR
VERSION:2.0
PRODID:-//wp-events-plugin.com//7.2.3.1//EN
TZID:America/Denver
X-WR-TIMEZONE:America/Denver
BEGIN:VEVENT
UID:172@staythetrail.org
DTSTART;TZID=America/Denver;VALUE=DATE:20220807
DTEND;TZID=America/Denver;VALUE=DATE:20220808
DTSTAMP:20220804T154931Z
URL:https://staythetrail.org/events/rampart-range-trail-matenance-work-par
 ty/
SUMMARY:Rampart Range Trail Matenance Work Party
DESCRIPTION:The Rampart Range Motorized Management Committee (RRMMC) is hos
 ing a work party on Sunday the 7th at Rampart Ranger. We will be making im
 provements to the kids riding area Light Foots Loop. \nEvent Details: ht
 tps://www.facebook.com/events/435466725208708?acontext=%7B%22event_action_
 history%22%3A[%7B%22surface%22%3A%22page%22%7D]%7D
CATEGORIES:STT Project
END:VEVENT
BEGIN:VTIMEZONE
TZID:America/Denver
X-LIC-LOCATION:America/Denver
BEGIN:DAYLIGHT
DTSTART:20220313T030000
TZOFFSETFROM:-0700
TZOFFSETTO:-0600
TZNAME:MDT
END:DAYLIGHT
END:VTIMEZONE
END:VCALENDAR