BEGIN:VCALENDAR
VERSION:2.0
PRODID:-//wp-events-plugin.com//7.2.3.1//EN
TZID:America/Denver
X-WR-TIMEZONE:America/Denver
BEGIN:VEVENT
UID:118@staythetrail.org
DTSTART;TZID=America/Denver;VALUE=DATE:20210911
DTEND;TZID=America/Denver;VALUE=DATE:20210912
DTSTAMP:20210901T173228Z
URL:https://staythetrail.org/events/rampart-range-trail-head-outreach-3/
SUMMARY:Rampart Range Trail Head Outreach
DESCRIPTION:STT will be providing OHV maps\, information and more at Rampar
 t Range. Look for us at the main Indian Creek staging area. \nArea Map: 
 https://trails.colorado.gov/places/na~1458388#activity=motorcycle
CATEGORIES:STT Trail Head Event
END:VEVENT
BEGIN:VTIMEZONE
TZID:America/Denver
X-LIC-LOCATION:America/Denver
BEGIN:DAYLIGHT
DTSTART:20210314T030000
TZOFFSETFROM:-0700
TZOFFSETTO:-0600
TZNAME:MDT
END:DAYLIGHT
END:VTIMEZONE
END:VCALENDAR