BEGIN:VCALENDAR
VERSION:2.0
PRODID:-//wp-events-plugin.com//7.2.3.1//EN
TZID:America/Denver
X-WR-TIMEZONE:America/Denver
BEGIN:VEVENT
UID:241@staythetrail.org
DTSTART;TZID=America/Denver;VALUE=DATE:20240602
DTEND;TZID=America/Denver;VALUE=DATE:20240603
DTSTAMP:20240508T194402Z
URL:https://staythetrail.org/events/rampart-range-spring-poker-run-3/
SUMMARY:Rampart Range - Spring Poker Run
DESCRIPTION:RRMMC hosts two moto Poker Runs a year. Registration and event 
 information: https://rampartrange.org/poker-run-registration/
CATEGORIES:STT OHV Event
END:VEVENT
BEGIN:VTIMEZONE
TZID:America/Denver
X-LIC-LOCATION:America/Denver
BEGIN:DAYLIGHT
DTSTART:20240310T030000
TZOFFSETFROM:-0700
TZOFFSETTO:-0600
TZNAME:MDT
END:DAYLIGHT
END:VTIMEZONE
END:VCALENDAR