BEGIN:VCALENDAR
VERSION:2.0
PRODID:-//wp-events-plugin.com//7.2.3.1//EN
TZID:America/Denver
X-WR-TIMEZONE:America/Denver
BEGIN:VEVENT
UID:168@staythetrail.org
DTSTART;TZID=America/Denver;VALUE=DATE:20220710
DTEND;TZID=America/Denver;VALUE=DATE:20220711
DTSTAMP:20220707T235858Z
URL:https://staythetrail.org/events/rampart-range-rrmmc-work-party/
SUMMARY:Rampart Range RRMMC Work Party
DESCRIPTION:STT will be joining RRMMC to help with their 3rd Work Party of 
 the season. Everyone is welcome to join. Kickstands up at 9:00! \nProject
  info: https://www.facebook.com/events/5198641673583758?acontext=%7B%22ev
 ent_action_history%22%3A[%7B%22surface%22%3A%22page%22%7D]%7D
CATEGORIES:STT Project
END:VEVENT
BEGIN:VTIMEZONE
TZID:America/Denver
X-LIC-LOCATION:America/Denver
BEGIN:DAYLIGHT
DTSTART:20220313T030000
TZOFFSETFROM:-0700
TZOFFSETTO:-0600
TZNAME:MDT
END:DAYLIGHT
END:VTIMEZONE
END:VCALENDAR