BEGIN:VCALENDAR
VERSION:2.0
PRODID:-//wp-events-plugin.com//7.2.3.1//EN
TZID:America/Denver
X-WR-TIMEZONE:America/Denver
BEGIN:VEVENT
UID:89@staythetrail.org
DTSTART;TZID=America/Denver;VALUE=DATE:20210522
DTEND;TZID=America/Denver;VALUE=DATE:20210523
DTSTAMP:20210518T164507Z
URL:https://staythetrail.org/events/rampart-range-outreach/
SUMMARY:Rampart Range Outreach
DESCRIPTION:STT Will be partnering with the USFS to provide OHV education\,
  maps and information regarding responsible motorized trail use. Look for 
 STT at the main staging area off of Hwy 67 and Rampart Range Rd. \nhttps:
 //trails.colorado.gov/map/@39.376194\,-105.095854\,12.88z/details#activity
 =ohv_gt_50
ATTACH;FMTTYPE=image/jpeg:https://staythetrail.org/wp-content/uploads/2021
 /05/IMG_5879.jpg
CATEGORIES:STT Trail Head Event
END:VEVENT
BEGIN:VTIMEZONE
TZID:America/Denver
X-LIC-LOCATION:America/Denver
BEGIN:DAYLIGHT
DTSTART:20210314T030000
TZOFFSETFROM:-0700
TZOFFSETTO:-0600
TZNAME:MDT
END:DAYLIGHT
END:VTIMEZONE
END:VCALENDAR