BEGIN:VCALENDAR
VERSION:2.0
PRODID:-//wp-events-plugin.com//7.2.3.1//EN
TZID:America/Denver
X-WR-TIMEZONE:America/Denver
BEGIN:VEVENT
UID:179@staythetrail.org
DTSTART;TZID=America/Denver;VALUE=DATE:20220911
DTEND;TZID=America/Denver;VALUE=DATE:20220912
DTSTAMP:20220829T181443Z
URL:https://staythetrail.org/events/rampart-range-fall-poker-run-3/
SUMMARY:Rampart Range Fall Poker Run
DESCRIPTION:The Rampart Range Motorcycle Management Committee sponsors a no
 n-competitive Poker Run for off-road motorcycles (no ATV's) and riders of 
 all ages. There is a short course (approximately 15-25 miles) and a long c
 ourse (approximately 50-55 miles). Riders of all abilities are welcome.\nP
 rizes are awarded on the basis of the poker hand you draw at the final che
 ck point. This is an AMA sanctioned\, non-competitive event and the 5 priz
 es awarded for each course are based on your luck in drawing one of the fi
 ve highest winning poker hands consisting of five (short course) or seven 
 (long course) total cards. It is not required for participants to be AMA m
 embers.\nThe entry fee includes a gourmet meal of hot dogs hosted by Mount
 ain Moto and soft drinks. Serving begins at 12:00 noon. Prizes are awarded
  after the event is over\, however you don't have to stay to claim your pr
 ize. Those who stay around for the awards will also gain a chance at sever
 al door prizes donated by local dealerships and organization\n \nEvent FB
  Page: https://www.facebook.com/events/1113470479595209
CATEGORIES:STT OHV Event
END:VEVENT
BEGIN:VTIMEZONE
TZID:America/Denver
X-LIC-LOCATION:America/Denver
BEGIN:DAYLIGHT
DTSTART:20220313T030000
TZOFFSETFROM:-0700
TZOFFSETTO:-0600
TZNAME:MDT
END:DAYLIGHT
END:VTIMEZONE
END:VCALENDAR