BEGIN:VCALENDAR
VERSION:2.0
PRODID:-//wp-events-plugin.com//7.2.3.1//EN
TZID:America/Denver
X-WR-TIMEZONE:America/Denver
BEGIN:VEVENT
UID:119@staythetrail.org
DTSTART;TZID=America/Denver;VALUE=DATE:20210912
DTEND;TZID=America/Denver;VALUE=DATE:20210913
DTSTAMP:20210901T173444Z
URL:https://staythetrail.org/events/rampart-range-fall-poker-run-2/
SUMMARY:Rampart Range Fall Poker Run
DESCRIPTION:STT will be helping out at the Rampart Range Fall Poker Run! \
 nDetails\n\nEVENTS/AWARDS AGENDA\nThe event starting time is 9:00am to 11:
 00am. The last check closes at 3:00pm. All cards must be turned in by 3:30
 pm. Prizes will be awarded beginning at 3:30pm.\nLOCATION\nFlat Rocks camp
 ground and Rampart Range Road\, approximately 4½ miles south on Rampart R
 ange Road off of Route #67 west of Sedalia\, CO.\n\nEvent Info: http://ra
 mpartrange.org/poker-run/
CATEGORIES:STT OHV Event
END:VEVENT
BEGIN:VTIMEZONE
TZID:America/Denver
X-LIC-LOCATION:America/Denver
BEGIN:DAYLIGHT
DTSTART:20210314T030000
TZOFFSETFROM:-0700
TZOFFSETTO:-0600
TZNAME:MDT
END:DAYLIGHT
END:VTIMEZONE
END:VCALENDAR