BEGIN:VCALENDAR
VERSION:2.0
PRODID:-//wp-events-plugin.com//7.2.3.1//EN
TZID:America/Denver
X-WR-TIMEZONE:America/Denver
BEGIN:VEVENT
UID:104@staythetrail.org
DTSTART;TZID=America/Denver;VALUE=DATE:20210724
DTEND;TZID=America/Denver;VALUE=DATE:20210725
DTSTAMP:20210720T204609Z
URL:https://staythetrail.org/events/rainbow-fall-outreach/
SUMMARY:Rainbow Fall Outreach
DESCRIPTION:We will be partnering with the Pikes Peak Ranger District OHV C
 rew to provide free area &amp\; statewide maps\, speak about safety\, cour
 teous trail use and more. \nArea information: https://trails.colorado.go
 v/map/@39.149971\,-105.111082\,13.00z/details
CATEGORIES:STT Trail Head Event
END:VEVENT
BEGIN:VTIMEZONE
TZID:America/Denver
X-LIC-LOCATION:America/Denver
BEGIN:DAYLIGHT
DTSTART:20210314T030000
TZOFFSETFROM:-0700
TZOFFSETTO:-0600
TZNAME:MDT
END:DAYLIGHT
END:VTIMEZONE
END:VCALENDAR