BEGIN:VCALENDAR
VERSION:2.0
PRODID:-//wp-events-plugin.com//7.2.3.1//EN
TZID:America/Denver
X-WR-TIMEZONE:America/Denver
BEGIN:VEVENT
UID:186@staythetrail.org
DTSTART;TZID=America/Denver;VALUE=DATE:20221022
DTEND;TZID=America/Denver;VALUE=DATE:20221023
DTSTAMP:20221014T193004Z
URL:https://staythetrail.org/events/pikes-peak-area-outreach-rule-ridge-71
 7/
SUMMARY:Kremmling Area Outreach
DESCRIPTION:STT will be partnering with the Kremmling BLM OHV Crew to conta
 ct local area users along with hunters. 
CATEGORIES:STT Trail Head Event
END:VEVENT
BEGIN:VTIMEZONE
TZID:America/Denver
X-LIC-LOCATION:America/Denver
BEGIN:DAYLIGHT
DTSTART:20220313T030000
TZOFFSETFROM:-0700
TZOFFSETTO:-0600
TZNAME:MDT
END:DAYLIGHT
END:VTIMEZONE
END:VCALENDAR