BEGIN:VCALENDAR
VERSION:2.0
PRODID:-//wp-events-plugin.com//7.2.3.1//EN
TZID:America/Denver
X-WR-TIMEZONE:America/Denver
BEGIN:VEVENT
UID:100@staythetrail.org
DTSTART;TZID=America/Denver;VALUE=DATE:20210709
DTEND;TZID=America/Denver;VALUE=DATE:20210710
DTSTAMP:20210709T133808Z
URL:https://staythetrail.org/events/pickle-gulch/
SUMMARY:Pickle Gulch
DESCRIPTION:STT will be partnering with the Clear Creek RD OHV Crew to surv
 ey and look at know issues in the area. Mainly lack of signage and trail b
 raiding. Once the area has been surveyed we will work with the CCRD and lo
 cal trail adoptees to formulate and implement a work project to help remed
 y any issues. 
CATEGORIES:STT Project
END:VEVENT
BEGIN:VTIMEZONE
TZID:America/Denver
X-LIC-LOCATION:America/Denver
BEGIN:DAYLIGHT
DTSTART:20210314T030000
TZOFFSETFROM:-0700
TZOFFSETTO:-0600
TZNAME:MDT
END:DAYLIGHT
END:VTIMEZONE
END:VCALENDAR