BEGIN:VCALENDAR
VERSION:2.0
PRODID:-//wp-events-plugin.com//7.2.3.1//EN
TZID:America/Denver
X-WR-TIMEZONE:America/Denver
BEGIN:VEVENT
UID:129@staythetrail.org
DTSTART;TZID=America/Denver;VALUE=DATE:20220220
DTEND;TZID=America/Denver;VALUE=DATE:20220221
DTSTAMP:20220216T170756Z
URL:https://staythetrail.org/events/penrose-common-education-outreach/
SUMMARY:Penrose Commons Education Outreach
DESCRIPTION:STT will be visiting Penrose Commons on Sunday the 20th of Febr
 uary to provide free State and area maps\, discuss responsible shared trai
 l use to those enjoying the area during the early season. \nArea Informat
 ion https://trails.colorado.gov/places/na~2311032#activity=ohv_gt_50
CATEGORIES:STT Trail Head Event
END:VEVENT
BEGIN:VTIMEZONE
TZID:America/Denver
X-LIC-LOCATION:America/Denver
BEGIN:STANDARD
DTSTART:20211107T010000
TZOFFSETFROM:-0600
TZOFFSETTO:-0700
TZNAME:MST
END:STANDARD
END:VTIMEZONE
END:VCALENDAR