BEGIN:VCALENDAR
VERSION:2.0
PRODID:-//wp-events-plugin.com//7.2.3.1//EN
TZID:America/Denver
X-WR-TIMEZONE:America/Denver
BEGIN:VEVENT
UID:113@staythetrail.org
DTSTART;TZID=America/Denver;VALUE=DATE:20210827
DTEND;TZID=America/Denver;VALUE=DATE:20210830
DTSTAMP:20210819T195614Z
URL:https://staythetrail.org/events/overland-expo-mountain-west/
SUMMARY:Overland Expo Mountain West
DESCRIPTION:Event information: https://www.overlandexpo.com/mtn-west/?utm_
 source=Google&amp\;utm_medium=CPC&amp\;utm_campaign=MountainWestSmart&amp\
 ;gclid=CjwKCAjwgviIBhBkEiwA10D2j5vqRDAL98QeQXl_Z1f9TRtYbWZ4ZSiRjHOaZN3ec66
 oEJs_VuW8lBoCZXkQAvD_BwE
CATEGORIES:STT 4x4 Event
END:VEVENT
BEGIN:VTIMEZONE
TZID:America/Denver
X-LIC-LOCATION:America/Denver
BEGIN:DAYLIGHT
DTSTART:20210314T030000
TZOFFSETFROM:-0700
TZOFFSETTO:-0600
TZNAME:MDT
END:DAYLIGHT
END:VTIMEZONE
END:VCALENDAR