BEGIN:VCALENDAR
VERSION:2.0
PRODID:-//wp-events-plugin.com//7.2.3.1//EN
TZID:America/Denver
X-WR-TIMEZONE:America/Denver
BEGIN:VEVENT
UID:174@staythetrail.org
DTSTART;TZID=America/Denver;VALUE=DATE:20220826
DTEND;TZID=America/Denver;VALUE=DATE:20220829
DTSTAMP:20220804T155824Z
URL:https://staythetrail.org/events/overland-expo-mountain-west-2/
SUMMARY:Overland Expo Mountain West
DESCRIPTION:STT will have and booth at the Overland Expo speaking about res
 ponsible trail/road use\, camping and mapping. Look for us inside.\nEvent 
 Info: https://www.facebook.com/events/363928062157304?acontext=%7B%22even
 t_action_history%22%3A[%7B%22surface%22%3A%22page%22%7D]%7D
CATEGORIES:Multi-use Event,STT 4x4 Event
END:VEVENT
BEGIN:VTIMEZONE
TZID:America/Denver
X-LIC-LOCATION:America/Denver
BEGIN:DAYLIGHT
DTSTART:20220313T030000
TZOFFSETFROM:-0700
TZOFFSETTO:-0600
TZNAME:MDT
END:DAYLIGHT
END:VTIMEZONE
END:VCALENDAR