BEGIN:VCALENDAR
VERSION:2.0
PRODID:-//wp-events-plugin.com//7.2.3.1//EN
TZID:America/Denver
X-WR-TIMEZONE:America/Denver
BEGIN:VEVENT
UID:121@staythetrail.org
DTSTART;TZID=America/Denver;VALUE=DATE:20210921
DTEND;TZID=America/Denver;VALUE=DATE:20210926
DTSTAMP:20210901T174250Z
URL:https://staythetrail.org/events/ohv-fall-colors-tour/
SUMMARY:OHV Fall Colors Tour
DESCRIPTION:The OHV Color Tour enters its 20th year.  This tour is for sid
 e by sides and all types of Off Highway Vehicles.  Experience the rugged 
 terrain\, Fall colors and historical sites in the heart of fourteener coun
 try. STT will have a booth set-up on the 21st for registration at the VFW 
 at 4pm.\nEvent Info: https://buenavistacolorado.org/ohv-color-tour/?et_fb
 =1&amp\;PageSpeed=off
CATEGORIES:STT OHV Event
END:VEVENT
BEGIN:VTIMEZONE
TZID:America/Denver
X-LIC-LOCATION:America/Denver
BEGIN:DAYLIGHT
DTSTART:20210314T030000
TZOFFSETFROM:-0700
TZOFFSETTO:-0600
TZNAME:MDT
END:DAYLIGHT
END:VTIMEZONE
END:VCALENDAR