BEGIN:VCALENDAR
VERSION:2.0
PRODID:-//wp-events-plugin.com//7.2.3.1//EN
TZID:America/Denver
X-WR-TIMEZONE:America/Denver
BEGIN:VEVENT
UID:76@staythetrail.org
DTSTART;TZID=America/Denver;VALUE=DATE:20210529
DTEND;TZID=America/Denver;VALUE=DATE:20210601
DTSTAMP:20210329T170317Z
URL:https://staythetrail.org/events/north-sand-hill-memorial-weekend/
SUMMARY:North Sand Hill Memorial Weekend
DESCRIPTION:Stay The Trail will be partnering with the Kremmling BLM to pro
 vide and promote responsible OHV use on public lands with a focus on sand 
 riding/driving.\nThe North Sand Hills is the only sand OHV area in the sta
 te and provides diverse opportunities for off-highway enthusiasts. The are
 a has primitive camping and restrooms but no sources of potable water. Roa
 ds east of the dunes allow access to trails on state and Forest Service la
 nd.\nMap\, location and more info available from COTREX here: https://tra
 ils.colorado.gov/trailheads/north-sand-hills-2523
ATTACH;FMTTYPE=image/jpeg:https://staythetrail.org/wp-content/uploads/2021
 /03/NSH-3-scaled.jpg
CATEGORIES:STT Trail Head Event
END:VEVENT
BEGIN:VTIMEZONE
TZID:America/Denver
X-LIC-LOCATION:America/Denver
BEGIN:DAYLIGHT
DTSTART:20210314T030000
TZOFFSETFROM:-0700
TZOFFSETTO:-0600
TZNAME:MDT
END:DAYLIGHT
END:VTIMEZONE
END:VCALENDAR