BEGIN:VCALENDAR
VERSION:2.0
PRODID:-//wp-events-plugin.com//7.2.3.1//EN
TZID:America/Denver
X-WR-TIMEZONE:America/Denver
BEGIN:VEVENT
UID:160@staythetrail.org
DTSTART;TZID=America/Denver;VALUE=DATE:20220701
DTEND;TZID=America/Denver;VALUE=DATE:20220704
DTSTAMP:20220602T154721Z
URL:https://staythetrail.org/events/north-sand-hill-area-outreach/
SUMMARY:North Sand Hill Area Outreach
DESCRIPTION:Area map and information: https://trails.colorado.gov/places/n
 a~1964136#activity=ohv_gt_50
CATEGORIES:STT OHV Event
END:VEVENT
BEGIN:VTIMEZONE
TZID:America/Denver
X-LIC-LOCATION:America/Denver
BEGIN:DAYLIGHT
DTSTART:20220313T030000
TZOFFSETFROM:-0700
TZOFFSETTO:-0600
TZNAME:MDT
END:DAYLIGHT
END:VTIMEZONE
END:VCALENDAR