BEGIN:VCALENDAR
VERSION:2.0
PRODID:-//wp-events-plugin.com//7.2.3.1//EN
TZID:America/Denver
X-WR-TIMEZONE:America/Denver
BEGIN:VEVENT
UID:123@staythetrail.org
DTSTART;TZID=America/Denver;VALUE=DATE:20210925
DTEND;TZID=America/Denver;VALUE=DATE:20210926
DTSTAMP:20210901T174754Z
URL:https://staythetrail.org/events/national-public-lands-day-2/
SUMMARY:National Public Lands Day
DESCRIPTION:National Public Lands Day is the nation's largest single-day vo
 lunteer event for public lands. Established in 1994 and held annually on 
 the fourth Saturday in September\, this celebration brings out thousands o
 f volunteers to help restore and improve public lands around the country.
  \nStay The Trail in partnership with Colorado Off-Road Enterprise will b
 e doing a work project on the Grizzly Lake Trail 
CATEGORIES:STT Project
END:VEVENT
BEGIN:VTIMEZONE
TZID:America/Denver
X-LIC-LOCATION:America/Denver
BEGIN:DAYLIGHT
DTSTART:20210314T030000
TZOFFSETFROM:-0700
TZOFFSETTO:-0600
TZNAME:MDT
END:DAYLIGHT
END:VTIMEZONE
END:VCALENDAR