BEGIN:VCALENDAR
VERSION:2.0
PRODID:-//wp-events-plugin.com//7.2.3.1//EN
TZID:America/Denver
X-WR-TIMEZONE:America/Denver
BEGIN:VEVENT
UID:176@staythetrail.org
DTSTART;TZID=America/Denver;VALUE=DATE:20220903
DTEND;TZID=America/Denver;VALUE=DATE:20220904
DTSTAMP:20220829T180628Z
URL:https://staythetrail.org/events/labor-day-at-taylor-park/
SUMMARY:Labor Day at Taylor Park
DESCRIPTION:STT will be partnering with the Gunnison USFS OHV Crew to help 
 educated 4x4 and OHVers about responsible motorized use\, maps\, registrat
 ion/permits and to answer any questions on a statewide or local lever. \n
 Look for us at the Trading Post Staging Area 
ATTACH;FMTTYPE=image/jpeg:https://staythetrail.org/wp-content/uploads/2019
 /06/2018_Year-End-Cover-Pic.png
CATEGORIES:STT Trail Head Event
END:VEVENT
BEGIN:VTIMEZONE
TZID:America/Denver
X-LIC-LOCATION:America/Denver
BEGIN:DAYLIGHT
DTSTART:20220313T030000
TZOFFSETFROM:-0700
TZOFFSETTO:-0600
TZNAME:MDT
END:DAYLIGHT
END:VTIMEZONE
END:VCALENDAR