BEGIN:VCALENDAR
VERSION:2.0
PRODID:-//wp-events-plugin.com//7.2.3.1//EN
TZID:America/Denver
X-WR-TIMEZONE:America/Denver
BEGIN:VEVENT
UID:103@staythetrail.org
DTSTART;TZID=America/Denver;VALUE=DATE:20210715
DTEND;TZID=America/Denver;VALUE=DATE:20210716
DTSTAMP:20210713T183528Z
URL:https://staythetrail.org/events/kingston-peak-mammoth-gulch-seasonal-g
 ate-opening/
SUMMARY:Kingston Peak/Mammoth Gulch Seasonal Gate Opening
DESCRIPTION:We will be partnering with the Clear Creek Ranger District OHV 
 Crew to open the seasonal gate on the Kingston Peak Trail System. \nArea 
 information: https://trails.colorado.gov/roads/kingston-peak-9346
CATEGORIES:STT Project
END:VEVENT
BEGIN:VTIMEZONE
TZID:America/Denver
X-LIC-LOCATION:America/Denver
BEGIN:DAYLIGHT
DTSTART:20210314T030000
TZOFFSETFROM:-0700
TZOFFSETTO:-0600
TZNAME:MDT
END:DAYLIGHT
END:VTIMEZONE
END:VCALENDAR