BEGIN:VCALENDAR
VERSION:2.0
PRODID:-//wp-events-plugin.com//7.2.3.1//EN
TZID:America/Denver
X-WR-TIMEZONE:America/Denver
BEGIN:VEVENT
UID:166@staythetrail.org
DTSTART;TZID=America/Denver;VALUE=DATE:20220717
DTEND;TZID=America/Denver;VALUE=DATE:20220718
DTSTAMP:20220630T194701Z
URL:https://staythetrail.org/events/kingston-peak-clean-up-run/
SUMMARY:Kingston Peak Clean Up Run
DESCRIPTION:STT will be partnering with the Rising Sun Toyota club who have
  that trail adopted along with the CCRD OHV Crew to do a cleanup run along
  with making sure the trail is in good shape for the season after the seas
 onal gates open on 7/15. 
CATEGORIES:STT Project
END:VEVENT
BEGIN:VTIMEZONE
TZID:America/Denver
X-LIC-LOCATION:America/Denver
BEGIN:DAYLIGHT
DTSTART:20220313T030000
TZOFFSETFROM:-0700
TZOFFSETTO:-0600
TZNAME:MDT
END:DAYLIGHT
END:VTIMEZONE
END:VCALENDAR