BEGIN:VCALENDAR
VERSION:2.0
PRODID:-//wp-events-plugin.com//7.2.3.1//EN
TZID:America/Denver
X-WR-TIMEZONE:America/Denver
BEGIN:VEVENT
UID:127@staythetrail.org
DTSTART;TZID=America/Denver;VALUE=DATE:20211028
DTEND;TZID=America/Denver;VALUE=DATE:20211030
DTSTAMP:20211005T174120Z
URL:https://staythetrail.org/events/hunter-outreach-gunnison/
SUMMARY:Hunter Outreach - Gunnison
DESCRIPTION:STT will be partnering with CPW\, USFS and the BLM to speak to 
 hunters as they prep for Rifle Season 2. We will be set up at the CPW offi
 ce the two days prior to opening day discussing rules related to OHV use w
 hile hunting\, registrations/permit requirements and mapping. 
CATEGORIES:STT OHV Event
END:VEVENT
BEGIN:VTIMEZONE
TZID:America/Denver
X-LIC-LOCATION:America/Denver
BEGIN:DAYLIGHT
DTSTART:20210314T030000
TZOFFSETFROM:-0700
TZOFFSETTO:-0600
TZNAME:MDT
END:DAYLIGHT
END:VTIMEZONE
END:VCALENDAR