BEGIN:VCALENDAR
VERSION:2.0
PRODID:-//wp-events-plugin.com//7.2.3.1//EN
TZID:America/Denver
X-WR-TIMEZONE:America/Denver
BEGIN:VEVENT
UID:185@staythetrail.org
DTSTART;TZID=America/Denver;VALUE=DATE:20221014
DTEND;TZID=America/Denver;VALUE=DATE:20221017
DTSTAMP:20221014T192858Z
URL:https://staythetrail.org/events/hunter-outreach-1st-rifle/
SUMMARY:Clear Creek Ranger District Signage Project
DESCRIPTION:STT will be assisting the Clear Creek RD OHV Crew to replace ol
 d\, worn and missing route and directional signs. 
CATEGORIES:Multi-use Event
END:VEVENT
BEGIN:VTIMEZONE
TZID:America/Denver
X-LIC-LOCATION:America/Denver
BEGIN:DAYLIGHT
DTSTART:20220313T030000
TZOFFSETFROM:-0700
TZOFFSETTO:-0600
TZNAME:MDT
END:DAYLIGHT
END:VTIMEZONE
END:VCALENDAR