BEGIN:VCALENDAR
VERSION:2.0
PRODID:-//wp-events-plugin.com//7.2.3.1//EN
TZID:America/Denver
X-WR-TIMEZONE:America/Denver
BEGIN:VEVENT
UID:107@staythetrail.org
DTSTART;TZID=America/Denver;VALUE=DATE:20210730
DTEND;TZID=America/Denver;VALUE=DATE:20210731
DTSTAMP:20210726T143243Z
URL:https://staythetrail.org/events/high-lonesome-100-aid-station/
SUMMARY:High Lonesome 100 Aid Station
DESCRIPTION:We will be helping CORE to provide assistance for the High Lone
 some 100 Cottonwood Aid Station. The High Lonesome 100 is a 100 mile runni
 ng race\, and the course uses several of our adopted trails. For our part\
 , we help park vehicles and shuttle runner aids to the Cottonwood Aid Stat
 ion location at the Green Timber Gulch Trailhead. This is a CORE fundraise
 r and allows us to help with a non-motorized event.\nEvent Information: ht
 tps://www.facebook.com/events/281067043794390/?ref=newsfeed
CATEGORIES:STT Trail Head Event
END:VEVENT
BEGIN:VTIMEZONE
TZID:America/Denver
X-LIC-LOCATION:America/Denver
BEGIN:DAYLIGHT
DTSTART:20210314T030000
TZOFFSETFROM:-0700
TZOFFSETTO:-0600
TZNAME:MDT
END:DAYLIGHT
END:VTIMEZONE
END:VCALENDAR