BEGIN:VCALENDAR
VERSION:2.0
PRODID:-//wp-events-plugin.com//7.2.3.1//EN
TZID:America/Denver
X-WR-TIMEZONE:America/Denver
BEGIN:VEVENT
UID:169@staythetrail.org
DTSTART;TZID=America/Denver;VALUE=DATE:20220722
DTEND;TZID=America/Denver;VALUE=DATE:20220723
DTSTAMP:20220720T164314Z
URL:https://staythetrail.org/events/high-lonesome-100-4x4-shuttle/
SUMMARY:High Lonesome 100 - 4x4 Shuttle
DESCRIPTION:Partnering with CORE we park cars and shuttle crew up the road 
 to the aid station and back. This event supports CORE and is great to show
  the motorized supporting the non-motorized community. A good portion of t
 he running race is on motorized single track maintained by OHV Dollars and
  CCMR. 
CATEGORIES:Multi-use Event
END:VEVENT
BEGIN:VTIMEZONE
TZID:America/Denver
X-LIC-LOCATION:America/Denver
BEGIN:DAYLIGHT
DTSTART:20220313T030000
TZOFFSETFROM:-0700
TZOFFSETTO:-0600
TZNAME:MDT
END:DAYLIGHT
END:VTIMEZONE
END:VCALENDAR