BEGIN:VCALENDAR
VERSION:2.0
PRODID:-//wp-events-plugin.com//7.2.3.1//EN
TZID:America/Denver
X-WR-TIMEZONE:America/Denver
BEGIN:VEVENT
UID:97@staythetrail.org
DTSTART;TZID=America/Denver;VALUE=DATE:20210606
DTEND;TZID=America/Denver;VALUE=DATE:20210607
DTSTAMP:20210609T153634Z
URL:https://staythetrail.org/events/hard-nox-extreme-4x4-trail-grand-openi
 ng/
SUMMARY:Hard Nox Extreme 4x4 Trail Grand Opening
DESCRIPTION:The Grand Mesa Jeep Club has been working hard for the past 5 y
 ears to open a new extreme 4x4 trail in Grand Junction! This is great to h
 ave new trails opening in CO due to the hard work for partner clubs and th
 e BLM. This trail is rated 10+ 
ATTACH;FMTTYPE=image/jpeg:https://staythetrail.org/wp-content/uploads/2021
 /06/IMG_6845-scaled.jpg
CATEGORIES:STT OHV Event
END:VEVENT
BEGIN:VTIMEZONE
TZID:America/Denver
X-LIC-LOCATION:America/Denver
BEGIN:DAYLIGHT
DTSTART:20210314T030000
TZOFFSETFROM:-0700
TZOFFSETTO:-0600
TZNAME:MDT
END:DAYLIGHT
END:VTIMEZONE
END:VCALENDAR