BEGIN:VCALENDAR
VERSION:2.0
PRODID:-//wp-events-plugin.com//7.2.3.1//EN
TZID:America/Denver
X-WR-TIMEZONE:America/Denver
BEGIN:VEVENT
UID:95@staythetrail.org
DTSTART;TZID=America/Denver;VALUE=DATE:20210630
DTEND;TZID=America/Denver;VALUE=DATE:20210701
DTSTAMP:20210609T152621Z
URL:https://staythetrail.org/events/hagerman-pass-seasonal-gate-opening/
SUMMARY:Hagerman Pass Seasonal Gate Opening
DESCRIPTION:STT will be assisting in the seasonal opening of the Hagerman P
 ass. \n&nbsp\;\nhttps://trails.colorado.gov/places/na~1460132
CATEGORIES:STT OHV Event
END:VEVENT
BEGIN:VTIMEZONE
TZID:America/Denver
X-LIC-LOCATION:America/Denver
BEGIN:DAYLIGHT
DTSTART:20210314T030000
TZOFFSETFROM:-0700
TZOFFSETTO:-0600
TZNAME:MDT
END:DAYLIGHT
END:VTIMEZONE
END:VCALENDAR