BEGIN:VCALENDAR
VERSION:2.0
PRODID:-//wp-events-plugin.com//7.2.3.1//EN
TZID:America/Denver
X-WR-TIMEZONE:America/Denver
BEGIN:VEVENT
UID:184@staythetrail.org
DTSTART;TZID=America/Denver;VALUE=DATE:20221008
DTEND;TZID=America/Denver;VALUE=DATE:20221009
DTSTAMP:20221007T194312Z
URL:https://staythetrail.org/events/gypsum-area-outreach/
SUMMARY:Gypsum Area Outreach
DESCRIPTION:Stay The Trail will be partnering with the Eagle Holy Cross Ran
 ger District to educated riders about the upcoming seasonal closures in th
 e area\, provide state and area maps and more. We will be visiting multipl
 e areas starting at Basalt Mountain TH. 
CATEGORIES:STT Trail Head Event
END:VEVENT
BEGIN:VTIMEZONE
TZID:America/Denver
X-LIC-LOCATION:America/Denver
BEGIN:DAYLIGHT
DTSTART:20220313T030000
TZOFFSETFROM:-0700
TZOFFSETTO:-0600
TZNAME:MDT
END:DAYLIGHT
END:VTIMEZONE
END:VCALENDAR