BEGIN:VCALENDAR
VERSION:2.0
PRODID:-//wp-events-plugin.com//7.2.3.1//EN
TZID:America/Denver
X-WR-TIMEZONE:America/Denver
BEGIN:VEVENT
UID:124@staythetrail.org
DTSTART;TZID=America/Denver;VALUE=DATE:20210919
DTEND;TZID=America/Denver;VALUE=DATE:20210925
DTSTAMP:20210902T194111Z
URL:https://staythetrail.org/events/gone-gpn-show/
SUMMARY:Gone-Gpn Show
DESCRIPTION:CFFC Fall Colors Tour celebrating Willy and Jeeps in Buena Vist
 a \nInformation: https://gonegpnshow.buzzsprout.com/
CATEGORIES:STT 4x4 Event
END:VEVENT
BEGIN:VTIMEZONE
TZID:America/Denver
X-LIC-LOCATION:America/Denver
BEGIN:DAYLIGHT
DTSTART:20210314T030000
TZOFFSETFROM:-0700
TZOFFSETTO:-0600
TZNAME:MDT
END:DAYLIGHT
END:VTIMEZONE
END:VCALENDAR