BEGIN:VCALENDAR
VERSION:2.0
PRODID:-//wp-events-plugin.com//7.2.3.1//EN
TZID:America/Denver
X-WR-TIMEZONE:America/Denver
BEGIN:VEVENT
UID:309@staythetrail.org
DTSTART;TZID=America/Denver;VALUE=DATE:20260516
DTEND;TZID=America/Denver;VALUE=DATE:20260517
DTSTAMP:20260420T144452Z
URL:https://staythetrail.org/events/go-topless-day-epic-quest/
SUMMARY:Go Topless Day - Epic Quest
DESCRIPTION:Event Information: https://www.epic4x4quest.com/event-info/gtd
 -4x4-show-registration-2
CATEGORIES:STT 4x4 Event
END:VEVENT
BEGIN:VTIMEZONE
TZID:America/Denver
X-LIC-LOCATION:America/Denver
BEGIN:DAYLIGHT
DTSTART:20260308T030000
TZOFFSETFROM:-0700
TZOFFSETTO:-0600
TZNAME:MDT
END:DAYLIGHT
END:VTIMEZONE
END:VCALENDAR